BEGIN:VCALENDAR
VERSION:2.0
PRODID:-//Primaindisoft - ECPv6.10.2//NONSGML v1.0//EN
CALSCALE:GREGORIAN
METHOD:PUBLISH
X-WR-CALNAME:Primaindisoft
X-ORIGINAL-URL:https://primaindisoft.com
X-WR-CALDESC:Events for Primaindisoft
REFRESH-INTERVAL;VALUE=DURATION:PT1H
X-Robots-Tag:noindex
X-PUBLISHED-TTL:PT1H
BEGIN:VTIMEZONE
TZID:UTC
BEGIN:STANDARD
TZOFFSETFROM:+0000
TZOFFSETTO:+0000
TZNAME:UTC
DTSTART:20180101T000000
END:STANDARD
END:VTIMEZONE
BEGIN:VEVENT
DTSTART;TZID=UTC:20180530T080000
DTEND;TZID=UTC:20180530T170000
DTSTAMP:20260420T220336
CREATED:20171013T035737Z
LAST-MODIFIED:20171013T035737Z
UID:4982-1527667200-1527699600@primaindisoft.com
SUMMARY:Creative Day
DESCRIPTION:Lorem gravida nibh vel veliauctor aliquenean sollicitudin\, lorem quis bibendum auctor\, nisi elit consequat ipsutis sem nibh id elit. Duis sed odio sit amet nibh vulputate cursus a sit amet mauris. Morbi accumsan ipsum velit. Nam nec tellus a odio tincidunt auctor a ornare odio. Sed non mauris vitae erat consequat auctor eu in elit. Class aptent taciti sociosqu ad litora torquent per conubia nostra\, per inceptos himenaeos. Mauris in erat justo. Nullam ac urnamiumimus felis dapibus sit amet. Sed non neque elit. Lorem gravida nibh vel veliauctor aliquenean sollicitudin\, lorem quis auctor.
URL:https://primaindisoft.com/event/creative-day-3/
LOCATION:Harvard Education\, Cambridge\, MA 02138\, USA\, Boston
CATEGORIES:Children
ORGANIZER;CN="Harvard Education":MAILTO:esmarts@elated-themes.com
END:VEVENT
BEGIN:VEVENT
DTSTART;TZID=UTC:20180530T080000
DTEND;TZID=UTC:20180530T170000
DTSTAMP:20260420T220336
CREATED:20171013T035737Z
LAST-MODIFIED:20171013T035737Z
UID:1313-1527667200-1527699600@primaindisoft.com
SUMMARY:Creative Day
DESCRIPTION:Lorem gravida nibh vel veliauctor aliquenean sollicitudin\, lorem quis bibendum auctor\, nisi elit consequat ipsutis sem nibh id elit. Duis sed odio sit amet nibh vulputate cursus a sit amet mauris. Morbi accumsan ipsum velit. Nam nec tellus a odio tincidunt auctor a ornare odio. Sed non mauris vitae erat consequat auctor eu in elit. Class aptent taciti sociosqu ad litora torquent per conubia nostra\, per inceptos himenaeos. Mauris in erat justo. Nullam ac urnamiumimus felis dapibus sit amet. Sed non neque elit. Lorem gravida nibh vel veliauctor aliquenean sollicitudin\, lorem quis auctor.
URL:https://primaindisoft.com/event/creative-day/
LOCATION:Harvard Education\, Cambridge\, MA 02138\, USA\, Boston
CATEGORIES:Children
ORGANIZER;CN="Harvard Education":MAILTO:esmarts@elated-themes.com
END:VEVENT
BEGIN:VEVENT
DTSTART;TZID=UTC:20180530T080000
DTEND;TZID=UTC:20180530T170000
DTSTAMP:20260420T220336
CREATED:20171013T035737Z
LAST-MODIFIED:20171013T035737Z
UID:4610-1527667200-1527699600@primaindisoft.com
SUMMARY:Creative Day
DESCRIPTION:Lorem gravida nibh vel veliauctor aliquenean sollicitudin\, lorem quis bibendum auctor\, nisi elit consequat ipsutis sem nibh id elit. Duis sed odio sit amet nibh vulputate cursus a sit amet mauris. Morbi accumsan ipsum velit. Nam nec tellus a odio tincidunt auctor a ornare odio. Sed non mauris vitae erat consequat auctor eu in elit. Class aptent taciti sociosqu ad litora torquent per conubia nostra\, per inceptos himenaeos. Mauris in erat justo. Nullam ac urnamiumimus felis dapibus sit amet. Sed non neque elit. Lorem gravida nibh vel veliauctor aliquenean sollicitudin\, lorem quis auctor.
URL:https://primaindisoft.com/event/creative-day-2/
LOCATION:Harvard Education\, Cambridge\, MA 02138\, USA\, Boston
CATEGORIES:Children
ORGANIZER;CN="Harvard Education":MAILTO:esmarts@elated-themes.com
END:VEVENT
BEGIN:VEVENT
DTSTART;TZID=UTC:20180515T090000
DTEND;TZID=UTC:20180515T180000
DTSTAMP:20260420T220336
CREATED:20171013T074849Z
LAST-MODIFIED:20171013T074849Z
UID:4611-1526374800-1526407200@primaindisoft.com
SUMMARY:Children's Day
DESCRIPTION:Lorem gravida nibh vel veliauctor aliquenean sollicitudin\, lorem quis bibendum auctor\, nisi elit consequat ipsutis sem nibh id elit. Duis sed odio sit amet nibh vulputate cursus a sit amet mauris. Morbi accumsan ipsum velit. Nam nec tellus a odio tincidunt auctor a ornare odio. Sed non mauris vitae erat consequat auctor eu in elit. Class aptent taciti sociosqu ad litora torquent per conubia nostra\, per inceptos himenaeos. Mauris in erat justo. Nullam ac urnamiumimus felis dapibus sit amet. Sed non neque elit. Lorem gravida nibh vel veliauctor aliquenean sollicitudin\, lorem quis auctor.
URL:https://primaindisoft.com/event/childrens-day-2/
LOCATION:Harvard Education\, Cambridge\, MA 02138\, USA\, Boston
CATEGORIES:Children
ORGANIZER;CN="Harvard Education":MAILTO:esmarts@elated-themes.com
END:VEVENT
BEGIN:VEVENT
DTSTART;TZID=UTC:20180515T090000
DTEND;TZID=UTC:20180515T180000
DTSTAMP:20260420T220336
CREATED:20171013T074849Z
LAST-MODIFIED:20171013T074849Z
UID:4983-1526374800-1526407200@primaindisoft.com
SUMMARY:Children's Day
DESCRIPTION:Lorem gravida nibh vel veliauctor aliquenean sollicitudin\, lorem quis bibendum auctor\, nisi elit consequat ipsutis sem nibh id elit. Duis sed odio sit amet nibh vulputate cursus a sit amet mauris. Morbi accumsan ipsum velit. Nam nec tellus a odio tincidunt auctor a ornare odio. Sed non mauris vitae erat consequat auctor eu in elit. Class aptent taciti sociosqu ad litora torquent per conubia nostra\, per inceptos himenaeos. Mauris in erat justo. Nullam ac urnamiumimus felis dapibus sit amet. Sed non neque elit. Lorem gravida nibh vel veliauctor aliquenean sollicitudin\, lorem quis auctor.
URL:https://primaindisoft.com/event/childrens-day-3/
LOCATION:Harvard Education\, Cambridge\, MA 02138\, USA\, Boston
CATEGORIES:Children
ORGANIZER;CN="Harvard Education":MAILTO:esmarts@elated-themes.com
END:VEVENT
BEGIN:VEVENT
DTSTART;TZID=UTC:20180515T090000
DTEND;TZID=UTC:20180515T180000
DTSTAMP:20260420T220336
CREATED:20171013T074849Z
LAST-MODIFIED:20171013T074849Z
UID:1345-1526374800-1526407200@primaindisoft.com
SUMMARY:Children's Day
DESCRIPTION:Lorem gravida nibh vel veliauctor aliquenean sollicitudin\, lorem quis bibendum auctor\, nisi elit consequat ipsutis sem nibh id elit. Duis sed odio sit amet nibh vulputate cursus a sit amet mauris. Morbi accumsan ipsum velit. Nam nec tellus a odio tincidunt auctor a ornare odio. Sed non mauris vitae erat consequat auctor eu in elit. Class aptent taciti sociosqu ad litora torquent per conubia nostra\, per inceptos himenaeos. Mauris in erat justo. Nullam ac urnamiumimus felis dapibus sit amet. Sed non neque elit. Lorem gravida nibh vel veliauctor aliquenean sollicitudin\, lorem quis auctor.
URL:https://primaindisoft.com/event/childrens-day/
LOCATION:Harvard Education\, Cambridge\, MA 02138\, USA\, Boston
CATEGORIES:Children
ORGANIZER;CN="Harvard Education":MAILTO:esmarts@elated-themes.com
END:VEVENT
BEGIN:VEVENT
DTSTART;TZID=UTC:20180515T080000
DTEND;TZID=UTC:20180515T170000
DTSTAMP:20260420T220336
CREATED:20171013T035714Z
LAST-MODIFIED:20171013T035714Z
UID:4981-1526371200-1526403600@primaindisoft.com
SUMMARY:Family Day
DESCRIPTION:Lorem gravida nibh vel veliauctor aliquenean sollicitudin\, lorem quis bibendum auctor\, nisi elit consequat ipsutis sem nibh id elit. Duis sed odio sit amet nibh vulputate cursus a sit amet mauris. Morbi accumsan ipsum velit. Nam nec tellus a odio tincidunt auctor a ornare odio. Sed non mauris vitae erat consequat auctor eu in elit. Class aptent taciti sociosqu ad litora torquent per conubia nostra\, per inceptos himenaeos. Mauris in erat justo. Nullam ac urnamiumimus felis dapibus sit amet. Sed non neque elit. Lorem gravida nibh vel veliauctor aliquenean sollicitudin\, lorem quis auctor.
URL:https://primaindisoft.com/event/family-day-3/
LOCATION:Harvard Education\, Cambridge\, MA 02138\, USA\, Boston
CATEGORIES:Children
ORGANIZER;CN="Harvard Education":MAILTO:esmarts@elated-themes.com
END:VEVENT
BEGIN:VEVENT
DTSTART;TZID=UTC:20180515T080000
DTEND;TZID=UTC:20180515T170000
DTSTAMP:20260420T220336
CREATED:20171013T035714Z
LAST-MODIFIED:20171013T035714Z
UID:1311-1526371200-1526403600@primaindisoft.com
SUMMARY:Family Day
DESCRIPTION:Lorem gravida nibh vel veliauctor aliquenean sollicitudin\, lorem quis bibendum auctor\, nisi elit consequat ipsutis sem nibh id elit. Duis sed odio sit amet nibh vulputate cursus a sit amet mauris. Morbi accumsan ipsum velit. Nam nec tellus a odio tincidunt auctor a ornare odio. Sed non mauris vitae erat consequat auctor eu in elit. Class aptent taciti sociosqu ad litora torquent per conubia nostra\, per inceptos himenaeos. Mauris in erat justo. Nullam ac urnamiumimus felis dapibus sit amet. Sed non neque elit. Lorem gravida nibh vel veliauctor aliquenean sollicitudin\, lorem quis auctor.
URL:https://primaindisoft.com/event/family-day/
LOCATION:Harvard Education\, Cambridge\, MA 02138\, USA\, Boston
CATEGORIES:Children
ORGANIZER;CN="Harvard Education":MAILTO:esmarts@elated-themes.com
END:VEVENT
BEGIN:VEVENT
DTSTART;TZID=UTC:20180515T080000
DTEND;TZID=UTC:20180515T170000
DTSTAMP:20260420T220336
CREATED:20171013T035714Z
LAST-MODIFIED:20171013T035714Z
UID:4609-1526371200-1526403600@primaindisoft.com
SUMMARY:Family Day
DESCRIPTION:Lorem gravida nibh vel veliauctor aliquenean sollicitudin\, lorem quis bibendum auctor\, nisi elit consequat ipsutis sem nibh id elit. Duis sed odio sit amet nibh vulputate cursus a sit amet mauris. Morbi accumsan ipsum velit. Nam nec tellus a odio tincidunt auctor a ornare odio. Sed non mauris vitae erat consequat auctor eu in elit. Class aptent taciti sociosqu ad litora torquent per conubia nostra\, per inceptos himenaeos. Mauris in erat justo. Nullam ac urnamiumimus felis dapibus sit amet. Sed non neque elit. Lorem gravida nibh vel veliauctor aliquenean sollicitudin\, lorem quis auctor.
URL:https://primaindisoft.com/event/family-day-2/
LOCATION:Harvard Education\, Cambridge\, MA 02138\, USA\, Boston
CATEGORIES:Children
ORGANIZER;CN="Harvard Education":MAILTO:esmarts@elated-themes.com
END:VEVENT
END:VCALENDAR